BEGIN:VCALENDAR
VERSION:2.0
PRODID:-//Girona Artelier
CALSCALE:GREGORIAN
METHOD:PUBLISH
X-WR-CALNAME:Girona Artelier
X-ORIGINAL-URL:https://www.artelier.cat/entrades/wonderland/
X-WR-CALDESC:WONDERLAND &#8211; Divendres 5 de març de 2021 (19.30 h)
BEGIN:VEVENT
DTSTART;TZID=Europe/London:20210305T193000
DTEND;TZID=Europe/London:20210305T213000
SUMMARY:WONDERLAND &#8211; Divendres 5 de març de 2021 (19.30 h)
DESCRIPTION:Retransmissió en directe de l'obra de teatre musical "Wonderland", protagonitzada per alumnes del Taller de Musicals de La Moderna, l'Escola de Música Moderna de Girona. Producció a càrrec de Girona Artelier.
URL:https://www.artelier.cat/entrades/wonderland/
LOCATION:
END:VEVENT
END:VCALENDAR
